BEGIN:VCALENDAR
VERSION:2.0
PRODID:-//Skincare Company - River Forest - Oak Park - Forest Park - Spa &amp; Hair Salon - ECPv6.15.20//NONSGML v1.0//EN
CALSCALE:GREGORIAN
METHOD:PUBLISH
X-WR-CALNAME:Skincare Company - River Forest - Oak Park - Forest Park - Spa &amp; Hair Salon
X-ORIGINAL-URL:https://skincarecompany.com
X-WR-CALDESC:Events for Skincare Company - River Forest - Oak Park - Forest Park - Spa &amp; Hair Salon
REFRESH-INTERVAL;VALUE=DURATION:PT1H
X-Robots-Tag:noindex
X-PUBLISHED-TTL:PT1H
BEGIN:VTIMEZONE
TZID:UTC
BEGIN:STANDARD
TZOFFSETFROM:+0000
TZOFFSETTO:+0000
TZNAME:UTC
DTSTART:20230101T000000
END:STANDARD
END:VTIMEZONE
BEGIN:VEVENT
DTSTART;TZID=UTC:20251113T180000
DTEND;TZID=UTC:20251113T210000
DTSTAMP:20260422T150914
CREATED:20251101T210601Z
LAST-MODIFIED:20251101T211029Z
UID:13630-1763056800-1763067600@skincarecompany.com
SUMMARY:Botox & Filler Night
DESCRIPTION:November 13th @ 6:00 pm – 8:00 pm
URL:https://skincarecompany.com/event/botox-filler-night-6/
LOCATION:Skincare Company Spa & Salon\, 7756 Madison St\, River Forest\, IL\, 60305
CATEGORIES:Botox Night
END:VEVENT
BEGIN:VEVENT
DTSTART;TZID=UTC:20250814T060000
DTEND;TZID=UTC:20250814T200000
DTSTAMP:20260422T150914
CREATED:20250725T195322Z
LAST-MODIFIED:20250725T195322Z
UID:13487-1755151200-1755201600@skincarecompany.com
SUMMARY:Botox & Filler Night
DESCRIPTION:August 14th @ 6:00 pm – 8:00 pm
URL:https://skincarecompany.com/event/botox-filler-night-5/
LOCATION:Skincare Company Spa & Salon\, 7756 Madison St\, River Forest\, IL\, 60305
CATEGORIES:Botox Night
END:VEVENT
BEGIN:VEVENT
DTSTART;TZID=UTC:20250313T180000
DTEND;TZID=UTC:20250313T210000
DTSTAMP:20260422T150914
CREATED:20250111T171306Z
LAST-MODIFIED:20250220T200117Z
UID:13129-1741888800-1741899600@skincarecompany.com
SUMMARY:Botox & Filler Night
DESCRIPTION:March 13th @ 6:00 pm – 9:00 pm
URL:https://skincarecompany.com/event/botox-filler-night-3/
LOCATION:IL
CATEGORIES:Botox Night
END:VEVENT
BEGIN:VEVENT
DTSTART;TZID=UTC:20241114T180000
DTEND;TZID=UTC:20241114T210000
DTSTAMP:20260422T150914
CREATED:20241003T195202Z
LAST-MODIFIED:20241004T163359Z
UID:12281-1731607200-1731618000@skincarecompany.com
SUMMARY:Botox & Filler Night
DESCRIPTION:
URL:https://skincarecompany.com/event/botox-filler-night/
LOCATION:Skincare Company Spa & Salon\, 7756 Madison St\, River Forest\, IL\, 60305
CATEGORIES:Botox Night
END:VEVENT
END:VCALENDAR